Workbook

Sheet Subscriptions
A1: Subscription Tracker
A2: See what your subscriptions really cost per month and per year.
A4: Example subscriptions are in the blue cells. Type over them or clear them.
A5: Today | C5: =TODAY() -> 46319
A8: Service | B8: Category | C8: Cost | D8: Billing | E8: Next renewal | F8: Per month | G8: Per year | H8: Renews soon
A9: Video streaming | B9: Streaming | C9: 15.99 | D9: Monthly | E9: 46340 | F9: =IF(OR(C9="",D9=""),"",ROUND(C9*IF(D9="Weekly",52/12,IF(D9="Monthly",1,IF(D9="Quarterly",1/3,IF(D9="Yearly",1/12,0)))),2)) -> 15.99 | G9: =IF(F9="","",F9*12) -> 191.88 | H9: =IF(E9="","",IF(AND(E9>=$C$5,E9<=$C$5+30),"Soon","")) -> Soon
A10: Music streaming | B10: Music | C10: 10.99 | D10: Monthly | E10: 46329 | F10: =IF(OR(C10="",D10=""),"",ROUND(C10*IF(D10="Weekly",52/12,IF(D10="Monthly",1,IF(D10="Quarterly",1/3,IF(D10="Yearly",1/12,0)))),2)) -> 10.99 | G10: =IF(F10="","",F10*12) -> 131.88 | H10: =IF(E10="","",IF(AND(E10>=$C$5,E10<=$C$5+30),"Soon","")) -> Soon
A11: Cloud storage | B11: Cloud storage | C11: 29.99 | D11: Yearly | E11: 46428 | F11: =IF(OR(C11="",D11=""),"",ROUND(C11*IF(D11="Weekly",52/12,IF(D11="Monthly",1,IF(D11="Quarterly",1/3,IF(D11="Yearly",1/12,0)))),2)) -> 2.5 | G11: =IF(F11="","",F11*12) -> 30 | H11: =IF(E11="","",IF(AND(E11>=$C$5,E11<=$C$5+30),"Soon",""))
A12: Gym membership | B12: Fitness | C12: 29 | D12: Monthly | E12: 46351 | F12: =IF(OR(C12="",D12=""),"",ROUND(C12*IF(D12="Weekly",52/12,IF(D12="Monthly",1,IF(D12="Quarterly",1/3,IF(D12="Yearly",1/12,0)))),2)) -> 29 | G12: =IF(F12="","",F12*12) -> 348 | H12: =IF(E12="","",IF(AND(E12>=$C$5,E12<=$C$5+30),"Soon",""))
A13: Newspaper | B13: News and reading | C13: 12 | D13: Quarterly | E13: 46357 | F13: =IF(OR(C13="",D13=""),"",ROUND(C13*IF(D13="Weekly",52/12,IF(D13="Monthly",1,IF(D13="Quarterly",1/3,IF(D13="Yearly",1/12,0)))),2)) -> 4 | G13: =IF(F13="","",F13*12) -> 48 | H13: =IF(E13="","",IF(AND(E13>=$C$5,E13<=$C$5+30),"Soon",""))
A14: Photo editing app | B14: Software | C14: 9.99 | D14: Monthly | E14: 46346 | F14: =IF(OR(C14="",D14=""),"",ROUND(C14*IF(D14="Weekly",52/12,IF(D14="Monthly",1,IF(D14="Quarterly",1/3,IF(D14="Yearly",1/12,0)))),2)) -> 9.99 | G14: =IF(F14="","",F14*12) -> 119.88 | H14: =IF(E14="","",IF(AND(E14>=$C$5,E14<=$C$5+30),"Soon","")) -> Soon
A15: Meal box | B15: Food and delivery | C15: 8.5 | D15: Weekly | E15: 46328 | F15: =IF(OR(C15="",D15=""),"",ROUND(C15*IF(D15="Weekly",52/12,IF(D15="Monthly",1,IF(D15="Quarterly",1/3,IF(D15="Yearly",1/12,0)))),2)) -> 36.83 | G15: =IF(F15="","",F15*12) -> 441.96 | H15: =IF(E15="","",IF(AND(E15>=$C$5,E15<=$C$5+30),"Soon","")) -> Soon
F16: =IF(OR(C16="",D16=""),"",ROUND(C16*IF(D16="Weekly",52/12,IF(D16="Monthly",1,IF(D16="Quarterly",1/3,IF(D16="Yearly",1/12,0)))),2)) | G16: =IF(F16="","",F16*12) | H16: =IF(E16="","",IF(AND(E16>=$C$5,E16<=$C$5+30),"Soon",""))
F17: =IF(OR(C17="",D17=""),"",ROUND(C17*IF(D17="Weekly",52/12,IF(D17="Monthly",1,IF(D17="Quarterly",1/3,IF(D17="Yearly",1/12,0)))),2)) | G17: =IF(F17="","",F17*12) | H17: =IF(E17="","",IF(AND(E17>=$C$5,E17<=$C$5+30),"Soon",""))
F18: =IF(OR(C18="",D18=""),"",ROUND(C18*IF(D18="Weekly",52/12,IF(D18="Monthly",1,IF(D18="Quarterly",1/3,IF(D18="Yearly",1/12,0)))),2)) | G18: =IF(F18="","",F18*12) | H18: =IF(E18="","",IF(AND(E18>=$C$5,E18<=$C$5+30),"Soon",""))
F19: =IF(OR(C19="",D19=""),"",ROUND(C19*IF(D19="Weekly",52/12,IF(D19="Monthly",1,IF(D19="Quarterly",1/3,IF(D19="Yearly",1/12,0)))),2)) | G19: =IF(F19="","",F19*12) | H19: =IF(E19="","",IF(AND(E19>=$C$5,E19<=$C$5+30),"Soon",""))
F20: =IF(OR(C20="",D20=""),"",ROUND(C20*IF(D20="Weekly",52/12,IF(D20="Monthly",1,IF(D20="Quarterly",1/3,IF(D20="Yearly",1/12,0)))),2)) | G20: =IF(F20="","",F20*12) | H20: =IF(E20="","",IF(AND(E20>=$C$5,E20<=$C$5+30),"Soon",""))
F21: =IF(OR(C21="",D21=""),"",ROUND(C21*IF(D21="Weekly",52/12,IF(D21="Monthly",1,IF(D21="Quarterly",1/3,IF(D21="Yearly",1/12,0)))),2)) | G21: =IF(F21="","",F21*12) | H21: =IF(E21="","",IF(AND(E21>=$C$5,E21<=$C$5+30),"Soon",""))
F22: =IF(OR(C22="",D22=""),"",ROUND(C22*IF(D22="Weekly",52/12,IF(D22="Monthly",1,IF(D22="Quarterly",1/3,IF(D22="Yearly",1/12,0)))),2)) | G22: =IF(F22="","",F22*12) | H22: =IF(E22="","",IF(AND(E22>=$C$5,E22<=$C$5+30),"Soon",""))
F23: =IF(OR(C23="",D23=""),"",ROUND(C23*IF(D23="Weekly",52/12,IF(D23="Monthly",1,IF(D23="Quarterly",1/3,IF(D23="Yearly",1/12,0)))),2)) | G23: =IF(F23="","",F23*12) | H23: =IF(E23="","",IF(AND(E23>=$C$5,E23<=$C$5+30),"Soon",""))
F24: =IF(OR(C24="",D24=""),"",ROUND(C24*IF(D24="Weekly",52/12,IF(D24="Monthly",1,IF(D24="Quarterly",1/3,IF(D24="Yearly",1/12,0)))),2)) | G24: =IF(F24="","",F24*12) | H24: =IF(E24="","",IF(AND(E24>=$C$5,E24<=$C$5+30),"Soon",""))
F25: =IF(OR(C25="",D25=""),"",ROUND(C25*IF(D25="Weekly",52/12,IF(D25="Monthly",1,IF(D25="Quarterly",1/3,IF(D25="Yearly",1/12,0)))),2)) | G25: =IF(F25="","",F25*12) | H25: =IF(E25="","",IF(AND(E25>=$C$5,E25<=$C$5+30),"Soon",""))
F26: =IF(OR(C26="",D26=""),"",ROUND(C26*IF(D26="Weekly",52/12,IF(D26="Monthly",1,IF(D26="Quarterly",1/3,IF(D26="Yearly",1/12,0)))),2)) | G26: =IF(F26="","",F26*12) | H26: =IF(E26="","",IF(AND(E26>=$C$5,E26<=$C$5+30),"Soon",""))
F27: =IF(OR(C27="",D27=""),"",ROUND(C27*IF(D27="Weekly",52/12,IF(D27="Monthly",1,IF(D27="Quarterly",1/3,IF(D27="Yearly",1/12,0)))),2)) | G27: =IF(F27="","",F27*12) | H27: =IF(E27="","",IF(AND(E27>=$C$5,E27<=$C$5+30),"Soon",""))
... F45: =IF(OR(C45="",D45=""),"",ROUND(C45*IF(D45="Weekly",52/12,IF(D45="Monthly",1,IF(D45="Quarterly",1/3,IF(D45="Yearly",1/12,0)))),2)) | G45: =IF(F45="","",F45*12) | H45: =IF(E45="","",IF(AND(E45>=$C$5,E45<=$C$5+30),"Soon",""))
A47: TOTALS
A48: Subscriptions | C48: =COUNTA(A9:A45) -> 7
A49: Cost per month | C49: =SUM(F9:F45) -> 109.3
A50: Cost per year | C50: =SUM(G9:G45) -> 1311.6
A51: Renewing in the next 30 days | C51: =COUNTIF(H9:H45,"Soon") -> 4

Sheet Summary
A1: Cost by category
A2: Filled in from the Subscriptions sheet.
A5: Most expensive per month | B5: =IFERROR(INDEX(Subscriptions!A9:A45,MATCH(MAX(Subscriptions!F9:F45),Subscriptions!F9:F45,0)),"") -> Meal box | C5: =MAX(Subscriptions!F9:F45) -> 36.83
A6: Average per subscription, per month | C6: =IF(COUNT(Subscriptions!F9:F45)>0,AVERAGE(Subscriptions!F9:F45),"") -> 15.614286
A8: A planning template. It does not connect to any bank or app and is not financial, legal or tax advice.
A12: Categories (you can rename them)
A13: Category | B13: Per month | C13: Per year | D13: Share
A14: Streaming | B14: =SUMIF(Subscriptions!$B$9:$B$45,A14,Subscriptions!$F$9:$F$45) -> 15.99 | C14: =B14*12 -> 191.88 | D14: =IF(SUM($B$14:$B$21)>0,B14/SUM($B$14:$B$21),"") -> 0.1462946
A15: Music | B15: =SUMIF(Subscriptions!$B$9:$B$45,A15,Subscriptions!$F$9:$F$45) -> 10.99 | C15: =B15*12 -> 131.88 | D15: =IF(SUM($B$14:$B$21)>0,B15/SUM($B$14:$B$21),"") -> 0.10054895
A16: Software | B16: =SUMIF(Subscriptions!$B$9:$B$45,A16,Subscriptions!$F$9:$F$45) -> 9.99 | C16: =B16*12 -> 119.88 | D16: =IF(SUM($B$14:$B$21)>0,B16/SUM($B$14:$B$21),"") -> 0.091399817
A17: News and reading | B17: =SUMIF(Subscriptions!$B$9:$B$45,A17,Subscriptions!$F$9:$F$45) -> 4 | C17: =B17*12 -> 48 | D17: =IF(SUM($B$14:$B$21)>0,B17/SUM($B$14:$B$21),"") -> 0.036596523
A18: Fitness | B18: =SUMIF(Subscriptions!$B$9:$B$45,A18,Subscriptions!$F$9:$F$45) -> 29 | C18: =B18*12 -> 348 | D18: =IF(SUM($B$14:$B$21)>0,B18/SUM($B$14:$B$21),"") -> 0.26532479
A19: Cloud storage | B19: =SUMIF(Subscriptions!$B$9:$B$45,A19,Subscriptions!$F$9:$F$45) -> 2.5 | C19: =B19*12 -> 30 | D19: =IF(SUM($B$14:$B$21)>0,B19/SUM($B$14:$B$21),"") -> 0.022872827
A20: Food and delivery | B20: =SUMIF(Subscriptions!$B$9:$B$45,A20,Subscriptions!$F$9:$F$45) -> 36.83 | C20: =B20*12 -> 441.96 | D20: =IF(SUM($B$14:$B$21)>0,B20/SUM($B$14:$B$21),"") -> 0.33696249
A21: Other | B21: =SUMIF(Subscriptions!$B$9:$B$45,A21,Subscriptions!$F$9:$F$45) -> 0 | C21: =B21*12 -> 0 | D21: =IF(SUM($B$14:$B$21)>0,B21/SUM($B$14:$B$21),"") -> 0
A22: Total | B22: =SUM(B14:B21) -> 109.3 | C22: =SUM(C14:C21) -> 1311.6

Sheet How to use
A1: How to use
B5: How to use this file
B6: List each subscription with its cost, how often it is billed and the next renewal date.
B7: Per month and per year are calculated for you, whatever the billing cycle is (weekly, monthly, quarterly or yearly).
B8: Renews soon marks everything that renews within the next 30 days, so you can cancel in time.
B9: The Summary sheet adds up your cost per category. You can rename the categories.
B10: Cost is shown without a currency symbol, so it works in any currency.
B12: A planning template. It does not connect to any bank or app and is not financial, legal or tax advice.
B13: Free from maxbeautifuldesigns.com/library. Standard .xlsx with formulas, no macros.
